BEGIN:VCALENDAR
VERSION:2.0
PRODID:https://www.kufer.de/kuferweb / DE
METHOD:PUBLISH
CALSCALE:GREGORIAN
X-WR-TIMEZONE:Europe/Berlin
BEGIN:VTIMEZONE
TZID:Europe/Berlin
X-LIC-LOCATION:Europe/Berlin
BEGIN:DAYLIGHT
TZOFFSETFROM:+0100
TZOFFSETTO:+0200
TZNAME:CEST
DTSTART:19700329T020000
RRULE:FREQ=YEARLY;INTERVAL=1;BYDAY=-1SU;BYMONTH=3
END:DAYLIGHT
BEGIN:STANDARD
TZOFFSETFROM:+0200
TZOFFSETTO:+0100
TZNAME:CET
DTSTART:19701025T030000
RRULE:FREQ=YEARLY;INTERVAL=1;BYDAY=-1SU;BYMONTH=10
END:STANDARD
END:VTIMEZONE
BEGIN:VEVENT
DTSTAMP:20260425T134501
DTSTART;TZID=Europe/Berlin:20260513T190000
DTEND;TZID=Europe/Berlin:20260513T203000
UID:ZV30211-K-20260513T190000@VHSDREISAMTAL
SUMMARY:Handstand für Anfänger draußen auf der Frühlingswiese (ZV30211-K) 
LOCATION:Kirchzarten, Rathaus Talvogtei, große Stube, Talvogteistraße 12, 79199 Kirchzarten
END:VEVENT
BEGIN:VEVENT
DTSTAMP:20260425T134501
DTSTART;TZID=Europe/Berlin:20260520T190000
DTEND;TZID=Europe/Berlin:20260520T203000
UID:ZV30211-K-20260520T190000@VHSDREISAMTAL
SUMMARY:Handstand für Anfänger draußen auf der Frühlingswiese (ZV30211-K) 
LOCATION:Kirchzarten, Rathaus Talvogtei, große Stube, Talvogteistraße 12, 79199 Kirchzarten
END:VEVENT
END:VCALENDAR